BEGIN:VCALENDAR
VERSION:2.0
PRODID:-//Fintech Philippines Association - ECPv6.15.20//NONSGML v1.0//EN
CALSCALE:GREGORIAN
METHOD:PUBLISH
X-ORIGINAL-URL:https://fintechph.org
X-WR-CALDESC:Events for Fintech Philippines Association
REFRESH-INTERVAL;VALUE=DURATION:PT1H
X-Robots-Tag:noindex
X-PUBLISHED-TTL:PT1H
BEGIN:VTIMEZONE
TZID:UTC
BEGIN:STANDARD
TZOFFSETFROM:+0000
TZOFFSETTO:+0000
TZNAME:UTC
DTSTART:20230101T000000
END:STANDARD
END:VTIMEZONE
BEGIN:VEVENT
DTSTART;TZID=UTC:20240926T140000
DTEND;TZID=UTC:20240926T150000
DTSTAMP:20260423T222258
CREATED:20240821T060443Z
LAST-MODIFIED:20240821T060443Z
UID:1311-1727359200-1727362800@fintechph.org
SUMMARY:2024 Financing and Lending Forum
DESCRIPTION:Fintech Philippines Association’s Financing and Lending Committee headed by Global Dominion Financing\, Inc.\, launches the third Financing and Lending Forum this year.\n\nDate: 26 September 2024\nTime: 2:00 PM PHT\nLocation: Fintech Philippines Association Facebook Page (Live!)\n\nKey Topic:\nGrowth and digital transformations in the Financing and Lending Industry\n\n#FinancingAndLendingIndustry #DigitalTransformationInFinance
URL:https://fintechph.org/event/2024-financing-and-lending-forum/
ORGANIZER;CN="Fintech Philippines Association":MAILTO:sheryll@fintechph.org
END:VEVENT
END:VCALENDAR